Workbook

Sheet Rechnung erstellen
A1: Datum der Abrechnung | G1: 2026
A2: Abrechnung für Kurs Nr. | C2: Z.B. Wi 03-25
A3: Datum Kursstart:
A4: Datum Kursende:
A6: Name: | D6: IBAN
A7: Straße: | D7: BIC
A8: PLZ / Ort:
A10: Gelb hinterlegte Felder sind auszufüllen!
A13: 1.1 Fahrtkosten eigener PKW | C13: Kilometer | G13: Betrag:
A14: Kurse/Touren | B14: 0.3 | G14: =B14*C14 -> 0
A15: Aus-/Fortbildung | B15: 0.2 | G15: =B15*C15 -> 0
A16: von: | C16: nach:
A17: über:
A18: Mitfahrer (Trainer*in):
A20: 1.2 Öffentliche Verkehrsmittel oder Kosten der Gruppenfahrt: | G20: Betrag
A21: tatsächl. geg. Nachweis
A23: 2. Tagegeld pauschal
A24: Abwesenheit | B24: 24 h - Tage | C24: Tage über 8 h | G24: Betrag
A25: Land
G26: =IF(A26="",0,(B26*VLOOKUP(A26,Pauschalen!$A$3:$C$11,2,FALSE))+(C26*VLOOKUP(A26,Pauschalen!$A$3:$C$11,3,FALSE))) -> 0
A28: Kürzung für unentgeltliche Gewährung von Verpflegung: | D28: Anzahl Tage | E28: Kürzung | G28: Betrag
A29: für Frühstück | B29: jew. 20% | C29: =IF(AND(E36="",E37=""),0,E36+E37)+Übernachtunsliste!C37 -> 0 | E29: =IF(A26="",0,(0.2*VLOOKUP(A26,Pauschalen!$A$3:$C$11,2,FALSE))) -> 0 | G29: =-(C29+D29)*(E29) -> 0
A30: für Mittagessen | B30: jew. 40% | E30: =IF(A26="",0,(0.4*VLOOKUP(A26,Pauschalen!$A$3:$C$11,2,FALSE))) -> 0 | G30: =-(C30+D30)*E30 -> 0
A31: für Abendessen | B31: jew. 40% | C31: =IF(E37="",0,E37)+Übernachtunsliste!C38 -> 0 | E31: =IF(A26="",0,(0.4*VLOOKUP(A26,Pauschalen!$A$3:$C$11,2,FALSE))) -> 0 | G31: =-(C31+D31)*E31 -> 0
A33: 3. Übernachtungskosten | D33: Betrag | E33: Anzahl Nächte | G33: Betrag
A34: Deutschland/Ausland | B34: pauschal (ohne Nachweis) | D34: 25 | G34: =D34*E34 -> 0
A35: D/Ausland ohne Verpflegung | B35: geg. Nachweis max. | C35: 60 | G35: =IF(D35>C35,C35*E35,D35*E35) -> 0
A36: D/Ausland mit Frühstück | B36: geg. Nachweis max. | C36: =IF(A26="",C35,(C35+0.2*VLOOKUP(A26,Pauschalen!$A$3:$C$11,2,FALSE))) -> 60 | G36: =IF(D36>C36,C36*E36,D36*E36) -> 0
A37: D/Ausland mit Halbpension | B37: geg. Nachweis max. | C37: =IF(A26="",C35,(C35+0.6*VLOOKUP(A26,Pauschalen!$A$3:$C$11,2,FALSE))) -> 60 | G37: =IF(D37>C37,C37*E37,D37*E37) -> 0
A38: Übernachtungsliste (optional bei mehreren Unterkünften, anstatt der Angaben oben) | G38: =Übernachtunsliste!G32 -> 0
A40: Hinweis: Fehlt auf dem Beleg die Angabe zur Verpflegung, diese bitte handschriftlich ergänzen. Z.B. "ohne Frühstück"
A42: 4. Sportstätten/Seilbahn | G42: Betrag
A43: tatsächl. Geg. Nachweis
A45: 5. Ausrüstungspauschale | D45: Tage | G45: Betrag
A46: je Kurstag pauschal | C46: 6 | G46: =C46*D46 -> 0
A48: 6. Sonderausgaben mit Nachweis | G48: Betrag
A50: Alle Belege und Nachweise sind im Original vorzulegen!
A52: Gesamtsumme: | G52: =SUM(G14:G49) -> 0
A54: Bitte überweisen sie den Betrag an das oben angegebene Konto
A55: Mit freundlichen Grüßen

Sheet Kalkulation
G1: 2026
A3: 1.1 Fahrtkosten eig. PKW | C3: Kilometer | G3: Betrag:
A4: Kurse/Touren | B4: 0.3 | G4: =B4*C4 -> 0
A5: Aus-/Fortbildung | B5: 0.2 | G5: =B5*C5 -> 0
A6: von: | C6: nach:
A7: über:
A8: Mitfahrer (Trainer*in):
A10: Gelb hinterlegte Felder sind auszufüllen!
A12: 1.2 Öffentl. Verkehrsmittel oder Kosten der Gruppenfahrt: | G12: Betrag
A13: geg. Nachweis
A15: 2. Tagegeld pauschal
A16: Abwesenheit | B16: 24 h - Tage | C16: Tage über 8 h | G16: Betrag
A17: Land
G18: =IF(A18="",0,(B18*VLOOKUP(A18,Pauschalen!$A$3:$C$11,2,FALSE))+(C18*VLOOKUP(A18,Pauschalen!$A$3:$C$11,3,FALSE))) -> 0
A21: Kürzung für unentgeltliche Gewährung von Verpflegung: | D21: Anzahl Tage | E21: Tagessatz | G21: Betrag
A22: für Frühstück | B22: jew. 20% | E22: =IF(A18="",0,(0.2*VLOOKUP(A18,Pauschalen!$A$3:$C$11,2,FALSE))) -> 0 | G22: =-(E22*D22) -> 0
A23: für Mittagessen | B23: jew. 40% | E23: =IF(A18="",0,(0.4*VLOOKUP(A18,Pauschalen!$A$3:$C$11,2,FALSE))) -> 0 | G23: =-(E23*D23) -> 0
A24: für Abendessen | B24: jew. 40% | E24: =IF(A18="",0,(0.4*VLOOKUP(A18,Pauschalen!$A$3:$C$11,2,FALSE))) -> 0 | G24: =-(E24*D24) -> 0
A27: 3. Übernachtungskosten | C27: Betrag | D27: Anzahl Nächte | G27: Betrag
A28: Deutschland/Ausland | B28: pauschal (ohne Beleg) | C28: 25 | G28: =C28*D28 -> 0
A29: Deutschland/Ausland | B29: geg. Nachweis max. 60 € | G29: =IF(C29>60,D29*60,C29*D29) -> 0
G30: =C30*D30 -> 0
A32: Hinweis: Sind höhere Kosten als die max. 60 € unvermeidlich, darf nach Rücksprache mit dem Tourenreferenten auch mit den höheren Kosten kalkuliert werden!
A34: 4. Sportstätten/Seilbahn | G34: Betrag
A35: geg. Nachweis
A37: 5. Ausrüstungspauschale | D37: Tage | G37: Betrag
A38: je Kurstag pauschal | C38: 6 | G38: =C38*D38 -> 0
A40: 6. Sonderausgaben mit Nachweis | G40: Betrag
A43: Kosten: | G43: =SUM(G4:G41) -> 0
A45: Mindestteilnehmer: | D45: 4
A46: Wird die Zahl der Mindestteilnehmer nicht erreicht, darf der Kurs nur nach Absprache mit dem Referenten stattfinden.
A48: Preis pro TN: | G48: =G43/D45 -> 0
A50: Reservierung Hütten | D50: Hütten | E50: Betrag
B51: max. 20 € / Kurstag | G51: =D51*E51 -> 0
A53: Verwaltungsgebühr | G53: 4
A54: Transaktionskosten | B54: 0.03 | G54: =G48*B54 -> 0
A56: Kurskosten der Ausschreibung | G56: =G48+G51+G53+G54 -> 4

Sheet Übernachtunsliste
A1: Datum der Abrechnung | G1: 2026
A2: Abrechnung für Kurs Nr. | C2: Z.B. Wi 03-25
A4: Gelb hinterlegte Felder sind auszufüllen!!
A5: (Die Übernachtungsliste ersetzt die Angaben auf der Rechnungsseite. Die Summe wird automatisch auf die Rechnungsseite übertragen)
A8: 3. Übernachtungskosten | E8: Anzahl Nächte
A9: Deutschland/Ausland (ohne Nachweis) | B9: pauschal | D9: 25 | G9: =D9*E9 -> 0
B11: mit Nachweis, max. Betrag für Preis/Nacht
A12: Land | B12: o. Verpflegung | C12: mit Frühstück | D12: mit Halbpension
B13: 60 | C13: =IF(A13="",B13,(B13+0.2*VLOOKUP(A13,Pauschalen!$A$3:$C$11,2,FALSE))) -> 60 | D13: =IF(A13="",B13,(B13+0.6*VLOOKUP(A13,Pauschalen!$A$3:$C$11,2,FALSE))) -> 60
B15: mit Nachweis, Anzahl Nächte
A16: Unterkunft | B16: o. Verpflegung | C16: mit Frühstück | D16: mit Halbpension | E16: Beleg Nr. | F16: Preis/Nacht
G17: =IF(F17>B$13,B17*B$13,B17*F17)+IF(F17>C$13,C17*C$13,C17*F17)+IF(F17>D$13,D17*D$13,D17*F17) -> 0
G18: =IF(F18>B$13,B18*B$13,B18*F18)+IF(F18>C$13,C18*C$13,C18*F18)+IF(F18>D$13,D18*D$13,D18*F18) -> 0
G19: =IF(F19>B$13,B19*B$13,B19*F19)+IF(F19>C$13,C19*C$13,C19*F19)+IF(F19>D$13,D19*D$13,D19*F19) -> 0
G20: =IF(F20>B$13,B20*B$13,B20*F20)+IF(F20>C$13,C20*C$13,C20*F20)+IF(F20>D$13,D20*D$13,D20*F20) -> 0
G21: =IF(F21>B$13,B21*B$13,B21*F21)+IF(F21>C$13,C21*C$13,C21*F21)+IF(F21>D$13,D21*D$13,D21*F21) -> 0
G22: =IF(F22>B$13,B22*B$13,B22*F22)+IF(F22>C$13,C22*C$13,C22*F22)+IF(F22>D$13,D22*D$13,D22*F22) -> 0
G23: =IF(F23>B$13,B23*B$13,B23*F23)+IF(F23>C$13,C23*C$13,C23*F23)+IF(F23>D$13,D23*D$13,D23*F23) -> 0
G24: =IF(F24>B$13,B24*B$13,B24*F24)+IF(F24>C$13,C24*C$13,C24*F24)+IF(F24>D$13,D24*D$13,D24*F24) -> 0
G25: =IF(F25>B$13,B25*B$13,B25*F25)+IF(F25>C$13,C25*C$13,C25*F25)+IF(F25>D$13,D25*D$13,D25*F25) -> 0
G26: =IF(F26>B$13,B26*B$13,B26*F26)+IF(F26>C$13,C26*C$13,C26*F26)+IF(F26>D$13,D26*D$13,D26*F26) -> 0
G27: =IF(F27>B$13,B27*B$13,B27*F27)+IF(F27>C$13,C27*C$13,C27*F27)+IF(F27>D$13,D27*D$13,D27*F27) -> 0
G28: =IF(F28>B$13,B28*B$13,B28*F28)+IF(F28>C$13,C28*C$13,C28*F28)+IF(F28>D$13,D28*D$13,D28*F28) -> 0
... G30: =IF(F30>B$13,B30*B$13,B30*F30)+IF(F30>C$13,C30*C$13,C30*F30)+IF(F30>D$13,D30*D$13,D30*F30) -> 0
A31: z.B Hotel Engel | B31: 1 | E31: 6 | F31: 99 | G31: =IF(F31>B$13,B31*B$13,B31*F31)+IF(F31>C$13,C31*C$13,C31*F31)+IF(F31>D$13,D31*D$13,D31*F31) -> 60
B32: =SUM(B17:B31) -> 1 | C32: =SUM(C17:C31) -> 0 | D32: =SUM(D17:D31) -> 0 | G32: =SUM(G9:G30) -> 0
A34: Hinweis: Fehlt auf dem Beleg/Nachweis die Angabe zur Verpflegung, diese bitte handschriftlich ergänzen. Z.B. "ohne Frühstück"
A36: Kürzung für unentgeltliche Gewährung von Verpflegung: | D36: Anzahl Tage | E36: Kürzung | G36: Betrag
A37: für Frühstück | B37: jew. 20% | C37: =C32+D32 -> 0 | E37: =IF(A13="",0,(0.2*VLOOKUP(A13,Pauschalen!$A$3:$C$11,2,FALSE))) -> 0 | G37: =-(C37+D37)*(E37) -> 0
A38: für Abendessen | B38: jew. 40% | C38: =D32 -> 0 | E38: =IF(A13="",0,(0.4*VLOOKUP(A13,Pauschalen!$A$3:$C$11,2,FALSE))) -> 0 | G38: =-(C38+D38)*E38 -> 0
A41: Mit freundlichen Grüßen

Sheet Pauschalen
B1: Abwesenheit
A2: Land | B2: von 24 h | C2: über 8 h
A3: D | B3: 28 | C3: 14 | D3: Deutschland
A4: F | B4: 53 | C4: 36 | D4: Frankreich
A5: GR | B5: 36 | C5: 24 | D5: Griechenland
A6: I | B6: 42 | C6: 28 | D6: Italien
A7: A | B7: 50 | C7: 33 | D7: Österreich
A8: CH | B8: 70 | C8: 47 | D8: Schweiz
A9: Sl | B9: 38 | C9: 25 | D9: Slowenien
A10: E | B10: 34 | C10: 23 | D10: Spanien
A11: Tr | B11: 24 | C11: 16 | D11: Türkei
A14: Felder mit Werten bitte nicht ausfüllen. Diese enthalten eine Formel und werden automatisch berechnet. Werte mit magenta Rahmen sind vom anzugebenden Land abhängig. Die Werte für die Anzahl der Tage bei der Kürzung der Verpflegung und die Summe der Kosten werden in Excel automatisch in die Rechnung übernommen.
